BEGIN:VCALENDAR
VERSION:2.0
PRODID:spatie/icalendar-generator
DESCRIPTION:Events from Sydkystens Sejlklub
X-WR-CALDESC:Events from Sydkystens Sejlklub
REFRESH-INTERVAL;VALUE=DURATION:PT1440M
X-PUBLISHED-TTL:PT1440M
BEGIN:VTIMEZONE
TZID:Europe/Copenhagen
BEGIN:DAYLIGHT
DTSTART:20240331T020000Z
TZOFFSETFROM:+0100
TZOFFSETTO:+0200
END:DAYLIGHT
BEGIN:STANDARD
DTSTART:20241027T030000Z
TZOFFSETFROM:+0200
TZOFFSETTO:+0100
END:STANDARD
BEGIN:DAYLIGHT
DTSTART:20250330T020000Z
TZOFFSETFROM:+0100
TZOFFSETTO:+0200
END:DAYLIGHT
END:VTIMEZONE
BEGIN:VTIMEZONE
TZID:UTC
BEGIN:STANDARD
DTSTART:20250725T083127Z
TZOFFSETFROM:+0000
TZOFFSETTO:+0000
END:STANDARD
END:VTIMEZONE
BEGIN:VEVENT
UID:678-375
DTSTAMP:20260421T083127Z
SUMMARY:Juniorhus udlånt
LOCATION:
ORGANIZER;CN=sydkystenssejlklub:MAILTO:webmaster@sydkystenssejlklub.dk
DTSTART;TZID=Europe/Copenhagen;VALUE=DATE:20241006
DTEND;TZID=Europe/Copenhagen;VALUE=DATE:20241007
X-ALT-DESC;FMTTYPE=TEXT/HTML:456
CATEGORIES:Juniorhus
URL;VALUE=URI:https://sydkystenssejlklub.dk/mc-events/juniorhus-udlaant-50/
 ?mc_id=678
END:VEVENT
END:VCALENDAR